BEGIN:VCALENDAR
VERSION:2.0
PRODID:-//The Alberta Physiotherapy Association - ECPv6.15.18//NONSGML v1.0//EN
CALSCALE:GREGORIAN
METHOD:PUBLISH
X-ORIGINAL-URL:https://albertaphysio.com
X-WR-CALDESC:Events for The Alberta Physiotherapy Association
REFRESH-INTERVAL;VALUE=DURATION:PT1H
X-Robots-Tag:noindex
X-PUBLISHED-TTL:PT1H
BEGIN:VTIMEZONE
TZID:America/Edmonton
BEGIN:DAYLIGHT
TZOFFSETFROM:-0700
TZOFFSETTO:-0600
TZNAME:MDT
DTSTART:20230312T090000
END:DAYLIGHT
BEGIN:STANDARD
TZOFFSETFROM:-0600
TZOFFSETTO:-0700
TZNAME:MST
DTSTART:20231105T080000
END:STANDARD
BEGIN:DAYLIGHT
TZOFFSETFROM:-0700
TZOFFSETTO:-0600
TZNAME:MDT
DTSTART:20240310T090000
END:DAYLIGHT
BEGIN:STANDARD
TZOFFSETFROM:-0600
TZOFFSETTO:-0700
TZNAME:MST
DTSTART:20241103T080000
END:STANDARD
BEGIN:DAYLIGHT
TZOFFSETFROM:-0700
TZOFFSETTO:-0600
TZNAME:MDT
DTSTART:20250309T090000
END:DAYLIGHT
BEGIN:STANDARD
TZOFFSETFROM:-0600
TZOFFSETTO:-0700
TZNAME:MST
DTSTART:20251102T080000
END:STANDARD
END:VTIMEZONE
BEGIN:VEVENT
DTSTART;TZID=America/Edmonton:20240603T190000
DTEND;TZID=America/Edmonton:20240603T200000
DTSTAMP:20260420T084422
CREATED:20240513T172919Z
LAST-MODIFIED:20240513T172919Z
UID:10000011-1717441200-1717444800@albertaphysio.com
SUMMARY:Financially Fulfilled Physio - Intro to Adulting 101: How Personal Finance Will Impact Your Life More Than Your Career
DESCRIPTION:Are you a student or a recent graduate and want to understand why your mindset is your most important asset? Join Robin\, from Financially Fulfilled Physio\, for an AAP exclusive webinar!  Robin is a practicing physiotherapist from Ontario\, Canada and is a personal finance enthusiast who wants to empower all physiotherapists to know their options\, take control of their finances and live life without exclusively trading time for money. \nSession Topics: \n\nIndependent Contractor vs. Employee\nHow the Type of Income You Earn can Affect Your Bottom Line\nBudgeting and Why it is Crucial for Your Success (paying down student loans\, professional student lines of credit etc.)\nMoney\, Growth Mindset\, and Goal Setting\nFinancial Planning for “Retirement”\n\nPlease Note: Although the webinar is tailored towards students and recent graduates\, all members are welcome to join. \n 
URL:https://albertaphysio.com/aap-event/financially-fulfilled-physio-intro-to-adulting-101-how-personal-finance-will-impact-your-life-more-than-your-career/
CATEGORIES:Members Only
ATTACH;FMTTYPE=image/png:https://albertaphysio.com/wp-content/uploads/2024/05/Screen-Shot-2024-05-13-at-9.53.21-AM.png
LOCATION:https://albertaphysio.com/aap-event/financially-fulfilled-physio-intro-to-adulting-101-how-personal-finance-will-impact-your-life-more-than-your-career/
END:VEVENT
END:VCALENDAR